BEGIN:VCALENDAR
VERSION:2.0
PRODID:-//wp-events-plugin.com//6.6.4.4//EN
TZID:Europe/Zurich
X-WR-TIMEZONE:Europe/Zurich
BEGIN:VEVENT
UID:74@dukeslascene.ch
DTSTART;TZID=Europe/Zurich:20240412T180000
DTEND;TZID=Europe/Zurich:20240412T220000
DTSTAMP:20240403T193433Z
URL:https://dukeslascene.ch/evenements/29516/
SUMMARY:Trio Voilà (chansons italiennes et internationales)
DESCRIPTION:\n\nTrio Voilà\n\nEn octobre 2023 Nika\, résidente en Suisse\
 , se rend en Italie et rejoint le Duo Semola (Matt et Mary) pour le concer
 t organisé à l occasion de l ' 'anniversaire de Mary. La soirée est un 
 vrai succès\, ce qui donne envie aux trois artistes de répéter l'expér
 ience et de se produire régulièrement en Italie et en Suisse... et Voil
 à\, le Trio est né!\n\nArtistes motivés\, passionnés\, complémentaire
 s et avec un brin de folie\, le Trio Voilà vous fera voyager dans un univ
 ers varié et riche en émotions.\n\nLes artistes\n\nMATT. Matteo Semprini
  Cesari\, originaire de Rimini\, a commencé son parcours musical en jouan
 t de la guitare à l'âge de 14 ans. Multi-instrumentiste (batterie\, sax\
 , basse). Il a joué dans divers groupes dont : "Garotigni di marina centr
 o" groupe de bossa\nnova\, de samba et de jazz \; Le sextet de jazz du Lof
 ter Duo Semolà (Duo voix acoustique et guitare : pop\, rock\, blues\, fun
 ky). Chanteur et choriste. Il s'est produit dans de nombreuses régions du
  monde (Hawaï\, Angleterre\, îles Canaries\, Norvège et Nouvelle-\nZél
 ande).\n\nMARY. Maria Teresa Medaina\, passionnée par le chant depuis son
  enfance\, fait partie d’un chœur polyphonique ' durant sa jeunesse en 
 tant que soprano et contralto. Elle se produit dans plusieurs groupes musi
 caux du Trentin en tant que chanteuse et choriste. Groupes de genre pop "N
 ew vocalists" "Senza piombo" et groupe de musique de salon. Duo dans diver
 ses formations\, au Trentin\, Rome et Rimini : "Mary &amp\; Nika" \; Duo S
 emolà (Duo voix acoustique et guitare : pop\, rock\, blues\, funky). Ella
  a une formation d’actrice et de doubleuse avec une expérience professi
 onnelle au théâtre et à la télévision.\n\nNIKA. Monica Medaina\, Gran
 de passionnée de danse\, musique et créations artistiques depuis son enf
 ance\, elle commence à composer ses premières chansons à la guitare à 
 quatorze ans. Elle étudie ensuite le piano\, puis elle élargie ses horiz
 ons ces dernières années attirée par les percussions et le ukulélé. A
 rtiste polyvalente en danse\, musique et théâtre/ cinéma\, inspirée pa
 r Michael Jackson\, fait partie de plusieurs groupes en Italie avec sa soe
 ur Mary en tant que chanteuse et guitariste.\nEn Suisse depuis 2003\, elle
  a une longue expérience de la scène en tant que danseuse et chorégraph
 e à l'école Power Dance\, puis en duo musical avec Sophie Cornaz.\nTrava
 ille actuellement sur divers projets et souhaite réaliser un premier cd a
 vec ses chansons et un deuxième dédié aux petits enfants (comptines et 
 berceuses).\n\nLa soirée musicale sera en 2 parties. La première pour l'
 apéritif entre 18 et 19 h. et la seconde entre 20h15 et 22h.\nRéservatio
 n recommandée au 021 811 00 11.
ATTACH;FMTTYPE=image/jpeg:https://dukeslascene.ch/wp-content/uploads/2024/
 03/2024-04-12-Trio-Voila-A4-reduit.jpg
CATEGORIES:La Rive Lounge Bar
LOCATION:La Rive Lounge Bar\, Rue des Charpentiers 9\, Morges\, 1110\, Suis
 se
X-APPLE-STRUCTURED-LOCATION;VALUE=URI;X-ADDRESS=Rue des Charpentiers 9\, Mo
 rges\, 1110\, Suisse;X-APPLE-RADIUS=100;X-TITLE=La Rive Lounge Bar:geo:0,0
END:VEVENT
BEGIN:VTIMEZONE
TZID:Europe/Zurich
X-LIC-LOCATION:Europe/Zurich
BEGIN:DAYLIGHT
DTSTART:20240331T030000
TZOFFSETFROM:+0100
TZOFFSETTO:+0200
TZNAME:CEST
END:DAYLIGHT
END:VTIMEZONE
END:VCALENDAR