BEGIN:VCALENDAR
VERSION:2.0
PRODID:-//wp-events-plugin.com//6.6.4.4//EN
TZID:Europe/Zurich
X-WR-TIMEZONE:Europe/Zurich
BEGIN:VEVENT
UID:126@dukeslascene.ch
DTSTART;TZID=Europe/Zurich:20241213T180000
DTEND;TZID=Europe/Zurich:20241213T220000
DTSTAMP:20241012T155928Z
URL:https://dukeslascene.ch/evenements/amaury-faivre-nouvel-album-my-ameri
 ca-blues-bluegrass-et-classic-rock/
SUMMARY:AMAURY FAIVRE - nouvel album MY AMERICA - blues\, bluegrass et clas
 sic rock
DESCRIPTION:Son tout nouvel album My Americana est un road trip sillonant l
 es routes des Etats-Unis\, avec une halte un peu plus longue en Louisiane 
 et dans le Mississippi. My Americana\, un hommage à ce style de musique t
 ypiquement américain\, aux frontières du blues\, du bluegrass et du 
 classic rock.\n\nAmaury Faivre est un artiste de blues acoustique\, qui f
 ête cette année vingt ans de carrière et plus de 800 scènes\, dans une
  dizaine de pays sur trois continents différents.\n\nFrançais d’origin
 e\, Amaury Faivre est installé à Genève depuis de longues années. Sa c
 arrière est lancée suite à un prix du public aux Jeunesses Musicales de
  France à l’âge de 15 ans et il remporte avec Amaury Faivre Duo le Swi
 ss Blues Challenge 2017. Après avoir été accompagné par des formations
  aussi diverses qu’un groupe électrique\, un duo acoustique ou un orche
 stre symphonique.\n\nAmaury concilie la liberté du jazz et l’émotion d
 u blues avec une maîtrise rare de l’harmonica qui permet d’offrir un 
 spectacle intense et bouleversant\, surprenant et sincère […]\n\nhttps:
 //www.amauryfaivre.com\n\nLe concert est en entrée libre\, en deux partie
 s : la première de 18 à 19 heures pour l'apéritif\, la seconde entre 20
 h15 et 22 heures pour la soirée.\n\nAfin de vous placer au mieux coté sc
 ène\, il est préférable de réserver au 021 320 15 25 en indiquant que 
 vous venez écouter le  musicien du soir : Amaury Faivre.
ATTACH;FMTTYPE=image/jpeg:https://dukeslascene.ch/wp-content/uploads/2024/
 10/2024-12-13-Amaury-Faivre-A4-reduit.jpg
CATEGORIES:La Rive Lounge Bar
LOCATION:La Rive Lounge Bar\, Rue des Charpentiers 9\, Morges\, 1110\, Suis
 se
X-APPLE-STRUCTURED-LOCATION;VALUE=URI;X-ADDRESS=Rue des Charpentiers 9\, Mo
 rges\, 1110\, Suisse;X-APPLE-RADIUS=100;X-TITLE=La Rive Lounge Bar:geo:0,0
END:VEVENT
BEGIN:VTIMEZONE
TZID:Europe/Zurich
X-LIC-LOCATION:Europe/Zurich
BEGIN:STANDARD
DTSTART:20241027T020000
TZOFFSETFROM:+0200
TZOFFSETTO:+0100
TZNAME:CET
END:STANDARD
END:VTIMEZONE
END:VCALENDAR