BEGIN:VCALENDAR
VERSION:2.0
PRODID:-//wp-events-plugin.com//6.6.4.4//EN
TZID:Europe/Zurich
X-WR-TIMEZONE:Europe/Zurich
BEGIN:VEVENT
UID:152@dukeslascene.ch
DTSTART;TZID=Europe/Zurich:20241121T190000
DTEND;TZID=Europe/Zurich:20241121T235900
DTSTAMP:20241120T105013Z
URL:https://dukeslascene.ch/evenements/campus-live-soiree-concerts-organis
 ee-par-musical-epfl/
SUMMARY:Campus Live - Soirée-concerts organisée par Musical EPFL
DESCRIPTION:\n\nL'association Musical EPFL fait sa sortie en ville de Lausa
 nne et vous propose une soirée de 2 concerts.\n\nVers 19h30\, c'est le gr
 oupe Atypical Ways\, un groupe indie suisse qui vient de sortir 2 single.\
 n\nVers 21 heures\, c'est le groupe DJ Hooligan &amp\; The Icebreakers\, (
 rq. aucun DJ a l'horizon) porté par le leader Jakob Behler.\n\nLes groupe
 s ont été choisis par le comité de l'association Musical Epfl et la soi
 rée sera l'occasion de découvrir de jeunes talents sûrement très prome
 tteurs.
ATTACH;FMTTYPE=image/jpeg:https://dukeslascene.ch/wp-content/uploads/2024/
 11/2024-11-21-Campus-Live-A4-reduit.jpg
CATEGORIES:Taco's bar
LOCATION:Taco's bar\, Rue du Port-Franc 6\, Lausanne\, 1003\, Suisse
X-APPLE-STRUCTURED-LOCATION;VALUE=URI;X-ADDRESS=Rue du Port-Franc 6\, Lausa
 nne\, 1003\, Suisse;X-APPLE-RADIUS=100;X-TITLE=Taco's bar:geo:0,0
END:VEVENT
BEGIN:VTIMEZONE
TZID:Europe/Zurich
X-LIC-LOCATION:Europe/Zurich
BEGIN:STANDARD
DTSTART:20241027T020000
TZOFFSETFROM:+0200
TZOFFSETTO:+0100
TZNAME:CET
END:STANDARD
END:VTIMEZONE
END:VCALENDAR