BEGIN:VCALENDAR
VERSION:2.0
PRODID:-//wp-events-plugin.com//6.6.4.4//EN
TZID:Europe/Zurich
X-WR-TIMEZONE:Europe/Zurich
BEGIN:VEVENT
UID:367@dukeslascene.ch
DTSTART;TZID=Europe/Zurich:20260502T203000
DTEND;TZID=Europe/Zurich:20260502T220000
DTSTAMP:20260419T115053Z
URL:https://dukeslascene.ch/evenements/concert-dirty-velvet-hard-rock-au-l
 apin-vert/
SUMMARY:Concert Dirty Velvet (rock alternatif) au Lapin Vert
DESCRIPTION:\n\nNé en 2019 dans la région de Lausanne\, Dirty Velvet est 
 un groupe qui incarne l'énergie\, le style et la liberté musicale à tra
 vers un son puissant et unique.\n\nLe concert est en entrée libre et au c
 hapeau.\n\n&nbsp\;
ATTACH;FMTTYPE=image/jpeg:https://dukeslascene.ch/wp-content/uploads/2026/
 04/2026-05-02-Dirty-Velvet-A4-v2-reduit.jpg
CATEGORIES:Lapin Vert
LOCATION:Lapin vert\, ruelle du Lapin Vert 2\, Lausanne\, 1005\, Suisse
X-APPLE-STRUCTURED-LOCATION;VALUE=URI;X-ADDRESS=ruelle du Lapin Vert 2\, La
 usanne\, 1005\, Suisse;X-APPLE-RADIUS=100;X-TITLE=Lapin vert:geo:0,0
END:VEVENT
BEGIN:VTIMEZONE
TZID:Europe/Zurich
X-LIC-LOCATION:Europe/Zurich
BEGIN:DAYLIGHT
DTSTART:20260329T030000
TZOFFSETFROM:+0100
TZOFFSETTO:+0200
TZNAME:CEST
END:DAYLIGHT
END:VTIMEZONE
END:VCALENDAR