BEGIN:VCALENDAR
VERSION:2.0
PRODID:-//wp-events-plugin.com//6.6.4.4//EN
TZID:Europe/Zurich
X-WR-TIMEZONE:Europe/Zurich
BEGIN:VEVENT
UID:87@dukeslascene.ch
DTSTART;TZID=Europe/Zurich:20240509T210000
DTEND;TZID=Europe/Zurich:20240509T233000
DTSTAMP:20240423T103720Z
URL:https://dukeslascene.ch/evenements/karaoke-du-jeudi-a-lausanne-7/
SUMMARY:Karaoké du jeudi à Lausanne spécial Ascencion
DESCRIPTION:\n\nTous les jeudis\, Duke’s la Scène organise un Karaoké a
 u Taco’s bar à Lausanne/Flon.\nIl n’est pas nécessaire d’être un 
 excellent chanteur\, l’essentiel est de s’amuser et de passer une bell
 e soirée ensemble. Donc venez simplement avec votre bonne humeur.\n\nSi v
 ous souhaitez réserver pour manger\, merci de ne PAS utiliser The Fork ma
 is de téléphoner directement au Taco’s au 021 320 15 25 ou envoyer une
  mail à info@tacos-bar.ch
ATTACH;FMTTYPE=image/jpeg:https://dukeslascene.ch/wp-content/uploads/2024/
 04/2024-05-09-Karaoke-Jeudi-A4-v2_page-0001-2.jpg
CATEGORIES:Taco's bar
LOCATION:Taco's bar\, Rue du Port-Franc 6\, Lausanne\, 1003\, Suisse
X-APPLE-STRUCTURED-LOCATION;VALUE=URI;X-ADDRESS=Rue du Port-Franc 6\, Lausa
 nne\, 1003\, Suisse;X-APPLE-RADIUS=100;X-TITLE=Taco's bar:geo:0,0
END:VEVENT
BEGIN:VTIMEZONE
TZID:Europe/Zurich
X-LIC-LOCATION:Europe/Zurich
BEGIN:DAYLIGHT
DTSTART:20240331T030000
TZOFFSETFROM:+0100
TZOFFSETTO:+0200
TZNAME:CEST
END:DAYLIGHT
END:VTIMEZONE
END:VCALENDAR