BEGIN:VCALENDAR
VERSION:2.0
PRODID:-//wp-events-plugin.com//6.6.4.4//EN
TZID:Europe/Zurich
X-WR-TIMEZONE:Europe/Zurich
BEGIN:VEVENT
UID:208@dukeslascene.ch
DTSTART;TZID=Europe/Zurich:20250227T200000
DTEND;TZID=Europe/Zurich:20250227T220000
DTSTAMP:20250202T140734Z
URL:https://dukeslascene.ch/evenements/kipon-hell-au-lapin-vert-power-rock
 /
SUMMARY:Kipon Hell au Lapin Vert (power rock)
DESCRIPTION:\n\nDuke’s La Scène vous invite à une soirée électrique a
 vec Kipon Hell\, un groupe qui fait vibrer les cœurs et secouer les tête
 s ! 🎸💥 Avec leur énergie punk\, leur bonne humeur contagieuse et un
  rock’n’roll taillé pour la scène\, Kipon Hell sait comment transfor
 mer un simple concert en une fête inoubliable.\n\nAu programme : un méla
 nge explosif de covers cultes et de compositions originales\, servis avec 
 une dose massive d’attitude et de fun. Attendez-vous à chanter\, à dan
 ser et à vivre un moment où la musique prend le pouvoir !\n\nEt quoi de 
 mieux que le mythique Lapin Vert pour accueillir cette tornade musicale ? 
 Ce bar emblématique\, repaire des amateurs de bonne musique et de belles 
 ambiances\, sera le terrain de jeu parfait pour une soirée où tout peut 
 arriver… et surtout le meilleur !\n\n🔥 Kipon Hell live @ Lapin Vert 
 🔥\n📍 Lieu : Lapin Vert\n🎸 Organisé par : Duke’s La Scène\n
 💥 Ambiance : Rock\, punk\, énergie pure et convivialité assurée\n
 🎶 À l'affiche : Covers &amp\; compos originales qui vont secouer les m
 urs !\n\nPréparez-vous\, ça va être bruyant\, festif et 100% rock’n
 ’roll. Kipon Hell débarque\, et ça va décoiffer ! 🤘🔥
ATTACH;FMTTYPE=image/jpeg:https://dukeslascene.ch/wp-content/uploads/2025/
 02/2025-02-27-Kipon-Hell-A4-reduit.jpg
CATEGORIES:Lapin Vert
LOCATION:Lapin vert\, ruelle du Lapin Vert 2\, Lausanne\, 1005\, Suisse
X-APPLE-STRUCTURED-LOCATION;VALUE=URI;X-ADDRESS=ruelle du Lapin Vert 2\, La
 usanne\, 1005\, Suisse;X-APPLE-RADIUS=100;X-TITLE=Lapin vert:geo:0,0
END:VEVENT
BEGIN:VTIMEZONE
TZID:Europe/Zurich
X-LIC-LOCATION:Europe/Zurich
BEGIN:STANDARD
DTSTART:20241027T020000
TZOFFSETFROM:+0200
TZOFFSETTO:+0100
TZNAME:CET
END:STANDARD
END:VTIMEZONE
END:VCALENDAR