BEGIN:VCALENDAR
VERSION:2.0
PRODID:-//wp-events-plugin.com//6.6.4.4//EN
TZID:Europe/Zurich
X-WR-TIMEZONE:Europe/Zurich
BEGIN:VEVENT
UID:305@dukeslascene.ch
DTSTART;TZID=Europe/Zurich:20251212T213000
DTEND;TZID=Europe/Zurich:20251212T233000
DTSTAMP:20251110T174511Z
URL:https://dukeslascene.ch/evenements/voodoo-blues-5/
SUMMARY:Voodoo Blues
DESCRIPTION:\n\nVOODOO BLUES est une formation de trois musiciens virtuoses
 \, passionnés par le blues-rock. Leur répertoire met en valeur de grands
  musiciens tels que Jimi Hendrix\, Stevie Ray Vaughan\, ZZ Top et les troi
 s Kings – B.B.\, Albert et Freddie. Robert Trainor (guitare\, voix)\, La
 urent Schaffter (basse) et Mike Freeman (batterie) ont chacun une longue e
 t variée expérience de la scène\, non seulement dans le blues et le roc
 k mais également le funk et le jazz. Un trio hautement professionnel\, qu
 i ne manquera pas de mettre le feu.\n\nPour mémoire\, Voodoo Blues a gagn
 é le Tremplin du Blues Rules Festival 2023 et s’est produit sur la gran
 de scène dans l’édition de cet été 2024 !\n\nLe concert sera en deux
  sets\, commencera à 21 heures 30.\nLa réservation est conseillée\, en 
 particulier si vous voulez manger sur place\, en téléphonant au numéro 
 021 320 15 25.\n\nANGLAIS :\nVoodoo Blues is a band created by three virtu
 oso musicians with a passion for blues-rock. Their repertoire showcases th
 e greats of the field such as Jimi Hendrix\, Stevie Ray Vaughan\, ZZ Top a
 nd the three Kings… B.B.\, Albert and Freddie. Robert Trainor (guitar\, 
 vocals)\, Laurent Schaffter (bass) and Mike Freeman (drums) each have long
  and varied experience on stage\, not only in blues and rock but also funk
  and jazz. A highly professional trio\, all set to provide a memorable per
 formance.\n\nThe concert is in two sets\, starting at 9.30 p.m.\nReservati
 on is recommended\, in particular for those wishing to eat. Call 021 320 1
 5 25
ATTACH;FMTTYPE=image/jpeg:https://dukeslascene.ch/wp-content/uploads/2025/
 11/2025-12-12-VoodooBlues-A4-reduit.jpg
CATEGORIES:Taco's bar
LOCATION:Taco's bar\, Rue du Port-Franc 6\, Lausanne\, 1003\, Suisse
X-APPLE-STRUCTURED-LOCATION;VALUE=URI;X-ADDRESS=Rue du Port-Franc 6\, Lausa
 nne\, 1003\, Suisse;X-APPLE-RADIUS=100;X-TITLE=Taco's bar:geo:0,0
END:VEVENT
BEGIN:VTIMEZONE
TZID:Europe/Zurich
X-LIC-LOCATION:Europe/Zurich
BEGIN:STANDARD
DTSTART:20251026T020000
TZOFFSETFROM:+0200
TZOFFSETTO:+0100
TZNAME:CET
END:STANDARD
END:VTIMEZONE
END:VCALENDAR